BEGIN:VCALENDAR
VERSION:2.0
PRODID:-//HelpkidsTrust - ECPv6.15.17.1//NONSGML v1.0//EN
CALSCALE:GREGORIAN
METHOD:PUBLISH
X-ORIGINAL-URL:https://dev.helpkidstrust.org
X-WR-CALDESC:Events for HelpkidsTrust
REFRESH-INTERVAL;VALUE=DURATION:PT1H
X-Robots-Tag:noindex
X-PUBLISHED-TTL:PT1H
BEGIN:VTIMEZONE
TZID:UTC
BEGIN:STANDARD
TZOFFSETFROM:+0000
TZOFFSETTO:+0000
TZNAME:UTC
DTSTART:20220101T000000
END:STANDARD
END:VTIMEZONE
BEGIN:VEVENT
DTSTART;TZID=UTC:20260211T100000
DTEND;TZID=UTC:20260211T170000
DTSTAMP:20260421T100919
CREATED:20210603T135130Z
LAST-MODIFIED:20260211T085100Z
UID:1212-1770804000-1770829200@dev.helpkidstrust.org
SUMMARY:Theme: முயற்சி(Try)
DESCRIPTION:  \n\n\n\n\n\n \n\n\n\n\n\n\n\n\n\n\n\n\n\n\n\nEvent Overview\n\n\nEffort is the foundation of every achievement. Success does not come from talent alone\, but from the courage to try again and again despite failures. Every great accomplishment begins with a small attempt\, a single step taken with determination. \nChallenges may slow us down\, but consistent effort builds strength\, confidence\, and resilience. When we choose to try instead of giving up\, we transform obstacles into opportunities for growth. முயற்சி is not just about working hard; it is about believing that with persistence\, dedication\, and patience\, even the impossible can become possible.
URL:https://dev.helpkidstrust.org/index.php/event/theme-try/
LOCATION:Hotel PKP Grand Dharmapuri\, Dharmapuri\, Dharmapuri\, Tamilnadu\, 636701\, India
CATEGORIES:Zonal Meeting Events
ATTACH;FMTTYPE=image/jpeg:https://dev.helpkidstrust.org/wp-content/uploads/2026/02/Try_featured.jpg
END:VEVENT
BEGIN:VEVENT
DTSTART;TZID=UTC:20240615T100000
DTEND;TZID=UTC:20240615T160000
DTSTAMP:20260421T100919
CREATED:20210603T135130Z
LAST-MODIFIED:20260211T085037Z
UID:1325-1718445600-1718467200@dev.helpkidstrust.org
SUMMARY:Theme: அம்மா(Mother)
DESCRIPTION:  \n\n\n\n\n\n \n\n\n\n\n\n\n\n\n\n\n\n\n\n\n\nEvent Overview\n\n\nA mother is the purest expression of unconditional love and selfless sacrifice. She nurtures\, protects\, and guides her children with patience and strength\, often placing their needs above her own. From the moment we begin to understand the world\, she becomes our first teacher\, our greatest supporter\, and our constant source of comfort. \nIn times of struggle\, she offers encouragement; in moments of success\, she celebrates with pride. Her compassion shapes character\, her wisdom builds confidence\, and her presence creates a sense of security that lasts a lifetime. A mother is not just a parent — she is the foundation of love\, resilience\, and humanity itself.
URL:https://dev.helpkidstrust.org/index.php/event/theme-mother/
LOCATION:Radha Mahal Reddiyarpatti Tirunelveli\, Tirunelveli\, Tamilnadu\, 627007\, India
CATEGORIES:Zonal Meeting Events
ATTACH;FMTTYPE=image/jpeg:https://dev.helpkidstrust.org/wp-content/uploads/2026/02/amma-featured.jpg
END:VEVENT
BEGIN:VEVENT
DTSTART;TZID=UTC:20230528T080000
DTEND;TZID=UTC:20230528T200000
DTSTAMP:20260421T100919
CREATED:20210603T135136Z
LAST-MODIFIED:20260211T085130Z
UID:1326-1685260800-1685304000@dev.helpkidstrust.org
SUMMARY:NEET MEETING
DESCRIPTION:  \n\n\n\n\n\n \n\n\n\n\n\n\n\n\n\n\n\n\n\n\n\n\n\n\n\n\n\nEvent Overview\n\n\nA NEET Meeting is an informative and motivational session designed to guide aspiring medical students toward success in the National Eligibility cum Entrance Test (NEET). The meeting focuses on exam structure\, preparation strategies\, time management techniques\, and subject-wise guidance in Physics\, Chemistry\, and Biology. \nExperienced mentors and educators provide clarity on syllabus coverage\, effective study plans\, common mistakes to avoid\, and methods to handle exam pressure. Such meetings not only help students understand the competitive landscape but also build confidence\, discipline\, and determination. A well-organized NEET Meeting serves as a roadmap\, empowering students to prepare strategically and pursue their dream of becoming medical professionals.
URL:https://dev.helpkidstrust.org/index.php/event/neet-meeting/
LOCATION:28th May Janakiram Hotel\, Tirunelveli\, Janakiraman Hotel\,\, Tirunelveli\, Tamilnadu\, 627001\, India
CATEGORIES:Zonal Meeting Events
ATTACH;FMTTYPE=image/jpeg:https://dev.helpkidstrust.org/wp-content/uploads/2026/02/Neet_meet_feature.jpg
END:VEVENT
END:VCALENDAR