BEGIN:VCALENDAR
VERSION:2.0
PRODID:-//HelpkidsTrust - ECPv6.15.17.1//NONSGML v1.0//EN
CALSCALE:GREGORIAN
METHOD:PUBLISH
X-ORIGINAL-URL:https://dev.helpkidstrust.org
X-WR-CALDESC:Events for HelpkidsTrust
REFRESH-INTERVAL;VALUE=DURATION:PT1H
X-Robots-Tag:noindex
X-PUBLISHED-TTL:PT1H
BEGIN:VTIMEZONE
TZID:UTC
BEGIN:STANDARD
TZOFFSETFROM:+0000
TZOFFSETTO:+0000
TZNAME:UTC
DTSTART:20210101T000000
END:STANDARD
END:VTIMEZONE
BEGIN:VTIMEZONE
TZID:Asia/Kolkata
BEGIN:STANDARD
TZOFFSETFROM:+0530
TZOFFSETTO:+0530
TZNAME:IST
DTSTART:20220101T000000
END:STANDARD
END:VTIMEZONE
BEGIN:VEVENT
DTSTART;TZID=UTC:20260211T080000
DTEND;TZID=UTC:20260211T170000
DTSTAMP:20260421T102322
CREATED:20210603T114957Z
LAST-MODIFIED:20260211T070817Z
UID:1318-1770796800-1770829200@dev.helpkidstrust.org
SUMMARY:Sivagnanapuram – GHSS
DESCRIPTION:  \n\n\n\n\n\n \n\n\n\n\n\n\n\n\n\n\n\n\n\n\n\nEvent Overview\n\n\nFor the welfare of girl students\, through Helpkids Trust\, we are providing toilets for girls in government higher Secondary schools that do not have enough toilets for girls. \nThe construction project for toilets in Government Girls Higher Secondary School\, located in Sivagnanapuram\, Thoothukudi District\, has been successfully completed. We have provided a total of five toilets exclusively for the 225 girl students. \nView More \n\n\n \n \n\n\n\nInfrastructure Development\n\n\nThe infrastructure development work included the construction of five separate toilet units exclusively for girl students. The facilities were designed to ensure proper sanitation\, safety\, and privacy. \nThe project focused on durability\, proper drainage systems\, water connectivity\, and hygienic construction standards to provide long-term benefits to students. \n\n\n \n\n\n\n\n\n\n\n\n\n\n\n\n\n\n\n\n\n 
URL:https://dev.helpkidstrust.org/index.php/event/sivagnanapuram-ghss/
LOCATION:Sivagnanapuram\, Government Higher Secondary School\, Government Higher Secondary School\, Sivagnanapuram\, Tamilnadu\, 628712\, India
CATEGORIES:Toilet Construction Project Events
ATTACH;FMTTYPE=image/png:https://dev.helpkidstrust.org/wp-content/uploads/2026/02/Sivagnanapuram-_Featured.png
END:VEVENT
BEGIN:VEVENT
DTSTART;TZID=UTC:20260129T080000
DTEND;TZID=UTC:20260129T170000
DTSTAMP:20260421T102322
CREATED:20260130T042550Z
LAST-MODIFIED:20260130T042550Z
UID:1804-1769673600-1769706000@dev.helpkidstrust.org
SUMMARY:Test
DESCRIPTION:
URL:https://dev.helpkidstrust.org/index.php/event/test/
LOCATION:Tamilnadu
CATEGORIES:Toilet Construction Project Events
END:VEVENT
BEGIN:VEVENT
DTSTART;TZID=UTC:20260121T100000
DTEND;TZID=UTC:20260121T110000
DTSTAMP:20260421T102322
CREATED:20260205T104553Z
LAST-MODIFIED:20260205T125708Z
UID:2387-1768989600-1768993200@dev.helpkidstrust.org
SUMMARY:Government higher Secondary School - Neduvayal
DESCRIPTION:  \n\n\n\n\n\n \n\n\n\n\n\n\n\n\n\n\n\n\n\n\n\nEvent Overview\n\n\nFor the welfare of girl students\, through Helpkids Trust\, we are providing toilets for girls in government higher Secondary schools that do not have enough toilets for girls. \nThe construction project for toilets in Government Higher Secondary School\, located in Neduvayal\, Tenkasi District\, has been successfully completed. We have provided a total of four toilets exclusively for the 184 girl students. \nView More \n\n\n \n \n\n\n\nInfrastructure Development\n\n\nThe infrastructure development work included the construction of five separate toilet units exclusively for girl students. The facilities were designed to ensure proper sanitation\, safety\, and privacy. \nThe project focused on durability\, proper drainage systems\, water connectivity\, and hygienic construction standards to provide long-term benefits to students. \n\n\n \n\n\n\n\n\n\n\n\n\n\n\n\n\n\n\n\n\n 
URL:https://dev.helpkidstrust.org/index.php/event/government-higher-secondary-school-neduvayal/
LOCATION:Government higher Secondary School\, Neduvayal-Achamputhur\, Government HIGHER SECONDARY SCHOOL Neduvayal\, Tenkasi\, Tamilnadu\, 627803\, India
CATEGORIES:Toilet Construction Project Events
ATTACH;FMTTYPE=image/jpeg:https://dev.helpkidstrust.org/wp-content/uploads/2026/02/Neduvayal_1.jpg
END:VEVENT
BEGIN:VEVENT
DTSTART;TZID=UTC:20250905T100000
DTEND;TZID=UTC:20250905T113000
DTSTAMP:20260421T102322
CREATED:20260205T113205Z
LAST-MODIFIED:20260211T070703Z
UID:2399-1757066400-1757071800@dev.helpkidstrust.org
SUMMARY:Mahakavi Barathyar Nootrandu Ninaiv Girls Hr Sec School - Eattayapuram
DESCRIPTION:  \n\n\n\n\n\n \n\n\n\n\n\n\n\n\n\n\n\n\n\n\n\nEvent Overview\n\n\nFor the welfare of girl students\, through Helpkids Trust\, we are providing toilets for girls in government higher Secondary schools that do not have enough toilets for girls. \nThe construction project for toilets in Government Higher Secondary School\, located in Eattayapuram\, Thoothukkudi District\, has been successfully completed. We have provided a total of Seven toilets exclusively for the 484 girl students. \nView More \n\n\n \n \n\n\n\nInfrastructure Development\n\n\nThe infrastructure development work included the construction of five separate toilet units exclusively for girl students. The facilities were designed to ensure proper sanitation\, safety\, and privacy. \nThe project focused on durability\, proper drainage systems\, water connectivity\, and hygienic construction standards to provide long-term benefits to students. \n\n\n \n\n\n\n\n\n\n\n\n\n\n\n\n\n\n\n\n\n 
URL:https://dev.helpkidstrust.org/index.php/event/mahakavi-barathyar-nootrandu-ninaiv-girls-hr-sec-school-eattayapuram/
LOCATION:Mahakavi Barathyar Nootrandu Ninaiv Girls Hr Sec School – Eattayapuram\, M.B.C.M GOVT GIRLS HR.SEC. SCHOOL\, ETTAYAPURAM\, Kovilpatti\, Thoothukkudi\, Tamilnadu\, 628902\, India
CATEGORIES:Toilet Construction Project Events
ATTACH;FMTTYPE=image/png:https://dev.helpkidstrust.org/wp-content/uploads/2026/02/Ettayapuram-_Featured.png
END:VEVENT
BEGIN:VEVENT
DTSTART;TZID=UTC:20250714T100000
DTEND;TZID=UTC:20250714T110000
DTSTAMP:20260421T102322
CREATED:20260205T121323Z
LAST-MODIFIED:20260211T070247Z
UID:2413-1752487200-1752490800@dev.helpkidstrust.org
SUMMARY:Government higher Secondary School - Kulathur
DESCRIPTION:  \n\n\n\n\n\n \n\n\n\n\n\n\n\n\n\n\n\n\n\n\n\nEvent Overview\n\n\nFor the welfare of girl students\, through Helpkids Trust\, we are providing toilets for girls in government higher Secondary schools that do not have enough toilets for girls. \nThe construction project for toilets in Government Higher Secondary School\, located in Kulathur\, Thoothukkudi District\, has been successfully completed. We have provided a total of Three toilets exclusively for the 159 girl students. \nView More \n\n\n \n \n\n\n\nInfrastructure Development\n\n\nThe infrastructure development work included the construction of five separate toilet units exclusively for girl students. The facilities were designed to ensure proper sanitation\, safety\, and privacy. \nThe project focused on durability\, proper drainage systems\, water connectivity\, and hygienic construction standards to provide long-term benefits to students. \n\n\n \n\n\n\n\n\n\n\n\n\n\n\n\n\n\n\n\n\n 
URL:https://dev.helpkidstrust.org/index.php/event/government-higher-secondary-school-kulathur/
LOCATION:Government higher Secondary School – Kulathur\, Govt. Hss\, Kulathur High School\, Kulathur\, Tamilnadu\, 628903\, India
CATEGORIES:Toilet Construction Project Events
ATTACH;FMTTYPE=image/png:https://dev.helpkidstrust.org/wp-content/uploads/2026/02/Kulathur-_Featured.png
END:VEVENT
BEGIN:VEVENT
DTSTART;TZID=UTC:20241007T100000
DTEND;TZID=UTC:20241007T113000
DTSTAMP:20260421T102322
CREATED:20260205T102646Z
LAST-MODIFIED:20260205T102646Z
UID:2363-1728295200-1728300600@dev.helpkidstrust.org
SUMMARY:Government Higher Secondary School - Kadaladi
DESCRIPTION:  \n\n\n\n\n\n \n\n\n\n\n\n\n\n\n\n\n\n\n\n\n\nEvent Overview\n\n\nFor the welfare of girl students\, through Helpkids Trust\, we are providing toilets for girls in government higher Secondary schools that do not have enough toilets for girls. \nThe construction project for toilets in Government Higher Secondary School\, located in Kadaladi\, Ramanathapuram District\, has been successfully completed. We have provided a total of four toilets exclusively for the 200 girl students. \nView More \n\n\n \n \n\n\n\nInfrastructure Development\n\n\nThe infrastructure development work included the construction of five separate toilet units exclusively for girl students. The facilities were designed to ensure proper sanitation\, safety\, and privacy. \nThe project focused on durability\, proper drainage systems\, water connectivity\, and hygienic construction standards to provide long-term benefits to students. \n\n\n \n\n\n\n\n\n\n\n\n\n\n\n\n\n\n\n\n\n 
URL:https://dev.helpkidstrust.org/index.php/event/government-higher-secondary-school-kadaladi/
LOCATION:Government Higher Secondary School \, Kadaladi\, Kadaladi\, Ramanathapuram\, Tamil Nadu\, Tamilnadu\, 623703\, India
CATEGORIES:Toilet Construction Project Events
ATTACH;FMTTYPE=image/jpeg:https://dev.helpkidstrust.org/wp-content/uploads/2026/02/Kadaladi-school_1.jpg
END:VEVENT
BEGIN:VEVENT
DTSTART;TZID=UTC:20240726T100000
DTEND;TZID=UTC:20240726T103000
DTSTAMP:20260421T102322
CREATED:20260101T114218Z
LAST-MODIFIED:20260211T071653Z
UID:1160-1721988000-1721989800@dev.helpkidstrust.org
SUMMARY:Government Higher Secondary School - Sernthamangalam
DESCRIPTION:  \n\n\n\n\n\n \n\n\n\n\n\n\n\n\n\n\n\n\n\n\n\nEvent Overview\n\n\nFor the welfare of girl students\, through Helpkids Trust\, we are providing toilets for girls in government higher Secondary schools that do not have enough toilets for girls. \nThe construction project for toilets in Government Higher Secondary School\, located in Sernthamangalam\, Tirunelveli District\, has been successfully completed. We have provided a total of five toilets exclusively for the 392 girl students. \nView More \n\n\n \n \n\n\n\nInfrastructure Development\n\n\nThe infrastructure development work included the construction of five separate toilet units exclusively for girl students. The facilities were designed to ensure proper sanitation\, safety\, and privacy. \nThe project focused on durability\, proper drainage systems\, water connectivity\, and hygienic construction standards to provide long-term benefits to students. \n\n\n \n\n\n\n\n\n\n\n\n\n\n\n\n\n\n\n\n\n 
URL:https://dev.helpkidstrust.org/index.php/event/government-higher-secondary-school-sernthamangalam/
LOCATION:Government Higher Secondary School – Serthamangalam\, Government Higher Secondary School Sernthamangalam Sernthamangalam Melaneelithanalur Tirunelveli\, Sernthamangalam\, Tamilnadu\, 627802\, India
CATEGORIES:Toilet Construction Project Events
ATTACH;FMTTYPE=image/png:https://dev.helpkidstrust.org/wp-content/uploads/2026/02/Sernthamangalam-_Featured.png
END:VEVENT
BEGIN:VEVENT
DTSTART;TZID=UTC:20240512T100000
DTEND;TZID=UTC:20240512T103000
DTSTAMP:20260421T102322
CREATED:20210603T114218Z
LAST-MODIFIED:20260211T070604Z
UID:1316-1715508000-1715509800@dev.helpkidstrust.org
SUMMARY:Government Higher Secondary School - Anaikulam
DESCRIPTION:  \n\n\n\n\n\n \n\n\n\n\n\n\n\n\n\n\n\n\n\n\n\nEvent Overview\n\n\nFor the welfare of girl students\, through Helpkids Trust\, we are providing toilets for girls in government higher Secondary schools that do not have enough toilets for girls. \nThe construction project for toilets in Government Higher Secondary School\, located in Anaikulam\, Virudhunagar District\, has been successfully completed. We have provided a total of Three toilets exclusively for the 198 girl students. \nView More \n\n\n \n \n\n\n\nInfrastructure Development\n\n\nThe infrastructure development work included the construction of five separate toilet units exclusively for girl students. The facilities were designed to ensure proper sanitation\, safety\, and privacy. \nThe project focused on durability\, proper drainage systems\, water connectivity\, and hygienic construction standards to provide long-term benefits to students. \n\n\n \n\n\n\n\n\n\n\n\n\n\n\n\n\n\n\n\n\n 
URL:https://dev.helpkidstrust.org/index.php/event/government-higher-secondary-school-anaikulam/
LOCATION:Government Higher Secondary School – Anaikulam\, Government High School Anaikulam Narikudi Virudhunagar\, Virudhunagar\, Tamilnadu\, 626607\, India
CATEGORIES:Toilet Construction Project Events
ATTACH;FMTTYPE=image/png:https://dev.helpkidstrust.org/wp-content/uploads/2026/02/Annaikulam-_Featured.png
END:VEVENT
BEGIN:VEVENT
DTSTART;TZID=UTC:20240226T100000
DTEND;TZID=UTC:20240226T110000
DTSTAMP:20260421T102322
CREATED:20210603T114433Z
LAST-MODIFIED:20260211T071012Z
UID:1170-1708941600-1708945200@dev.helpkidstrust.org
SUMMARY:Arumuganeri GHSS
DESCRIPTION:  \n\n\n\n\n\n \n\n\n\n\n\n\n\n\n\n\n\n\n\n\n\nEvent Overview\n\n\nFor the welfare of girl students\, through Helpkids Trust\, we are providing toilets for girls in government higher Secondary schools that do not have enough toilets for girls. \nThe construction project for toilets in Government Higher Secondary School\, located in Arumuganeri\, Thoothukudi District\, has been successfully completed. We have provided a total of three toilets exclusively for the 384 girl students. \nView More\n\n\n \n \n\n\n\nInfrastructure Development\n\n\nThe infrastructure development work included the construction of five separate toilet units exclusively for girl students. The facilities were designed to ensure proper sanitation\, safety\, and privacy. \nThe project focused on durability\, proper drainage systems\, water connectivity\, and hygienic construction standards to provide long-term benefits to students. \n\n\n \n\n\n\n\n\n\n\n\n\n\n\n\n\n\n\n\n\n 
URL:https://dev.helpkidstrust.org/index.php/event/arumuganeri-ghss/
LOCATION:Arumuganeri GHSS\, Thoothukudi\, Arumuganeri GHSS\, Thoothukudi\, Tamilnadu\, 628001\, India
CATEGORIES:Toilet Construction Project Events
ATTACH;FMTTYPE=image/jpeg:https://dev.helpkidstrust.org/wp-content/uploads/2026/02/arumuganer-featured.jpg
END:VEVENT
BEGIN:VEVENT
DTSTART;TZID=UTC:20240212T080000
DTEND;TZID=UTC:20240212T170000
DTSTAMP:20260421T102322
CREATED:20210603T114752Z
LAST-MODIFIED:20260211T071102Z
UID:1173-1707724800-1707757200@dev.helpkidstrust.org
SUMMARY:Sekkarakudi GHSS
DESCRIPTION:  \n\n\n\n\n\n \n\n\n\n\n\n\n\n\n\n\n\n\n\n\n\nEvent Overview\n\n\nFor the welfare of girl students\, through Helpkids Trust\, we are providing toilets for girls in government higher Secondary schools that do not have enough toilets for girls. \nThe construction project for toilets in Government Higher Secondary School\, located in Sekkarakudi\, Tirunelveli District\, has been successfully completed. We have provided a total of three toilets exclusively for the 384 girl students. \nView More \n\n\n \n \n\n\n\nInfrastructure Development\n\n\nThe infrastructure development work included the construction of five separate toilet units exclusively for girl students. The facilities were designed to ensure proper sanitation\, safety\, and privacy. \nThe project focused on durability\, proper drainage systems\, water connectivity\, and hygienic construction standards to provide long-term benefits to students. \n\n\n \n\n\n\n\n\n\n\n\n\n\n\n\n\n\n\n\n\n 
URL:https://dev.helpkidstrust.org/index.php/event/sekkarakudi-ghss/
LOCATION:Government higher Secondary School\, Sekkarakudi\, Government Higher Secondary School\, Sekkarakudi\, Tamilnadu\, 628104\, India
CATEGORIES:Toilet Construction Project Events
ATTACH;FMTTYPE=image/png:https://dev.helpkidstrust.org/wp-content/uploads/2026/02/Sekkarakudi-_Featured.png
END:VEVENT
BEGIN:VEVENT
DTSTART;TZID=UTC:20230726T103000
DTEND;TZID=UTC:20230726T113000
DTSTAMP:20260421T102322
CREATED:20210603T115007Z
LAST-MODIFIED:20260211T071545Z
UID:1174-1690367400-1690371000@dev.helpkidstrust.org
SUMMARY:Kadayanallur – GGHSS
DESCRIPTION:  \n\n\n\n\n\n \n\n\n\n\n\n\n\n\n\n\n\n\n\n\n\nEvent Overview\n\n\nFor the welfare of girl students\, through Helpkids Trust\, we are providing toilets for girls in government higher Secondary schools that do not have enough toilets for girls. \nThe construction project for toilets in Government Higher Secondary School\, located in Kadayanallur \, Tirunelveli District\, has been successfully completed. We have provided a total of Five toilets exclusively for the 384 girl students. \nView More \n\n\n \n \n\n\n\nInfrastructure Development\n\n\nThe infrastructure development work included the construction of five separate toilet units exclusively for girl students. The facilities were designed to ensure proper sanitation\, safety\, and privacy. \nThe project focused on durability\, proper drainage systems\, water connectivity\, and hygienic construction standards to provide long-term benefits to students. \n\n\n \n\n\n\n\n\n\n\n\n\n\n\n\n\n\n 
URL:https://dev.helpkidstrust.org/index.php/event/kadayanallur-gghss/
LOCATION:Kadayanallur\, Government Girls Higher Secondary School\, Kadayanallur\, Tenkasi\, Tamilnadu\, 627751\, India
CATEGORIES:Toilet Construction Project Events
ATTACH;FMTTYPE=image/png:https://dev.helpkidstrust.org/wp-content/uploads/2026/02/Kadayanallur-_Featured.png
END:VEVENT
BEGIN:VEVENT
DTSTART;TZID=Asia/Kolkata:20230614T103000
DTEND;TZID=Asia/Kolkata:20230614T110000
DTSTAMP:20260421T102322
CREATED:20260103T114433Z
LAST-MODIFIED:20260211T072515Z
UID:1317-1686738600-1686740400@dev.helpkidstrust.org
SUMMARY:Vadakarai – GHSS
DESCRIPTION:  \n\n\n\n\n\n \n\n\n\n\n\n\n\n\n\n\n\n\n\n\n\nEvent Overview\n\n\nFor the welfare of girl students\, through Helpkids Trust\, we are providing toilets for girls in government higher Secondary schools that do not have enough toilets for girls. \nThe construction project for toilets in Government Higher Secondary School\, located in Vadakarai\, Tenkasi District\, has been successfully completed. We have provided a total of five toilets exclusively for the 392 girl students. \nView More \n\n\n \n\n\n\nInfrastructure Development\n\n\nThe infrastructure development work included the construction of five separate toilet units exclusively for girl students. The facilities were designed to ensure proper sanitation\, safety\, and privacy. \nThe project focused on durability\, proper drainage systems\, water connectivity\, and hygienic construction standards to provide long-term benefits to students.
URL:https://dev.helpkidstrust.org/index.php/event/vadakarai-ghss/
LOCATION:Vadakarai\, Government Higher Secondary School\, Government Higher Secondary School\, Tenkasi\, Tamilnadu\, 627811\, India
CATEGORIES:Toilet Construction Project Events
ATTACH;FMTTYPE=image/png:https://dev.helpkidstrust.org/wp-content/uploads/2026/02/vadakarai-_Featured.png
END:VEVENT
BEGIN:VEVENT
DTSTART;TZID=UTC:20230329T080000
DTEND;TZID=UTC:20230329T170000
DTSTAMP:20260421T102322
CREATED:20210603T115007Z
LAST-MODIFIED:20260211T102257Z
UID:1321-1680076800-1680109200@dev.helpkidstrust.org
SUMMARY:Kazhugumalai – GHSS
DESCRIPTION:  \n\n\n\n\n\n \n\n\n\n\n\n\n\n\n\n\n\n\n\n\n\nEvent Overview\n\n\nFor the welfare of girl students\, through Helpkids Trust\, we are providing toilets for girls in government higher Secondary schools that do not have enough toilets for girls. \nThe construction project for toilets in Government Girls Higher Secondary School\, located in Kalugumalai\, Thoothukudi District\, has been successfully completed. We have provided a total of five toilets exclusively for the 300 girl students. \nView More \n\n\n \n \n\n\n\nInfrastructure Development\n\n\nThe infrastructure development work included the construction of five separate toilet units exclusively for girl students. The facilities were designed to ensure proper sanitation\, safety\, and privacy. \nThe project focused on durability\, proper drainage systems\, water connectivity\, and hygienic construction standards to provide long-term benefits to students. \n\n\n \n\n\n\n\n\n\n\n\n\n\n\n\n\n\n\n\n\n 
URL:https://dev.helpkidstrust.org/index.php/event/kazhugumalai-ghss/
LOCATION:Kazhugumalai\, Government Higher Secondary School\, Government Higher Secondary School\, Kazhugumalai\, Tamilnadu\, 628552\, India
CATEGORIES:Toilet Construction Project Events
ATTACH;FMTTYPE=image/png:https://dev.helpkidstrust.org/wp-content/uploads/2026/02/Kazhugumalai_Preview.png
END:VEVENT
BEGIN:VEVENT
DTSTART;TZID=UTC:20221030T080000
DTEND;TZID=UTC:20221030T170000
DTSTAMP:20260421T102322
CREATED:20210603T114752Z
LAST-MODIFIED:20260211T102251Z
UID:1320-1667116800-1667149200@dev.helpkidstrust.org
SUMMARY:Kamanayakkanpatti GHSS
DESCRIPTION:  \n\n\n\n\n\n \n\n\n\n\n\n\n\n\n\n\n\n\n\n\n\nEvent Overview\n\n\nFor the welfare of girl students\, through Helpkids Trust\, we are providing toilets for girls in government higher Secondary schools that do not have enough toilets for girls. \nThe construction project for toilets in Government Higher Secondary School\, located in Kamanayakkanpatti\, Tirunelveli District\, has been successfully completed. We have provided a total of three toilets exclusively for the 300 girl students. \nView More \n\n\n \n \n\n\n\nInfrastructure Development\n\n\nThe infrastructure development work included the construction of five separate toilet units exclusively for girl students. The facilities were designed to ensure proper sanitation\, safety\, and privacy. \nThe project focused on durability\, proper drainage systems\, water connectivity\, and hygienic construction standards to provide long-term benefits to students. \n\n\n \n\n\n\n\n\n\n\n\n\n\n\n\n\n\n\n\n\n 
URL:https://dev.helpkidstrust.org/index.php/event/kamanayakkanpatti-ghss/
LOCATION:Governement Higher Secondary School\, Kamanayakkanpatti\, Governement Higher Secondary School\, Kamanayakkanpatti\, Tamilnadu\, 628720\, India
CATEGORIES:Toilet Construction Project Events
ATTACH;FMTTYPE=image/png:https://dev.helpkidstrust.org/wp-content/uploads/2026/02/Kamanaganpatti-_Preview.png
END:VEVENT
BEGIN:VEVENT
DTSTART;TZID=UTC:20221027T080000
DTEND;TZID=UTC:20221027T170000
DTSTAMP:20260421T102322
CREATED:20210603T114957Z
LAST-MODIFIED:20260211T102254Z
UID:1171-1666857600-1666890000@dev.helpkidstrust.org
SUMMARY:Vadaku Ariyanagipuram GHSS
DESCRIPTION:  \n\n\n\n\n\n \n\n\n\n\n\n\n\n\n\n\n\n\n\n\n\nEvent Overview\n\n\nFor the welfare of girl students\, through Helpkids Trust\, we are providing toilets for girls in government higher Secondary schools that do not have enough toilets for girls. \nThe construction project for toilets in Government Higher Secondary School\, located in Vadaku Ariyanayagipuram\, Tirunelveli District\, has been successfully completed. We have provided a total of four toilets exclusively for the 189 girl students. \nView More \n\n\n \n \n\n\n\nInfrastructure Development\n\n\nThe infrastructure development work included the construction of five separate toilet units exclusively for girl students. The facilities were designed to ensure proper sanitation\, safety\, and privacy. \nThe project focused on durability\, proper drainage systems\, water connectivity\, and hygienic construction standards to provide long-term benefits to students. \n\n\n \n\n\n\n\n\n\n\n\n\n\n\n\n\n\n\n\n\n 
URL:https://dev.helpkidstrust.org/index.php/event/vadaku-ariyanagipuram-ghss/
LOCATION:Government Higher Secondary School\, Vadaku Ariyanagipuram\, Government Higher Secondary School\, Vadaku Ariyanagipuram\, Tamilnadu\, 627603\, India
CATEGORIES:Toilet Construction Project Events
ATTACH;FMTTYPE=image/png:https://dev.helpkidstrust.org/wp-content/uploads/2026/02/Vadaku-Ariyanagipuram_Preview.png
END:VEVENT
END:VCALENDAR